BEGIN:VCALENDAR
VERSION:2.0
PRODID:-//International Society of Travel Medicine - ECPv6.15.20//NONSGML v1.0//EN
CALSCALE:GREGORIAN
METHOD:PUBLISH
X-WR-CALNAME:International Society of Travel Medicine
X-ORIGINAL-URL:https://www.istm.org
X-WR-CALDESC:Events for International Society of Travel Medicine
REFRESH-INTERVAL;VALUE=DURATION:PT1H
X-Robots-Tag:noindex
X-PUBLISHED-TTL:PT1H
BEGIN:VTIMEZONE
TZID:America/Chicago
BEGIN:DAYLIGHT
TZOFFSETFROM:-0600
TZOFFSETTO:-0500
TZNAME:CDT
DTSTART:20240310T080000
END:DAYLIGHT
BEGIN:STANDARD
TZOFFSETFROM:-0500
TZOFFSETTO:-0600
TZNAME:CST
DTSTART:20241103T070000
END:STANDARD
BEGIN:DAYLIGHT
TZOFFSETFROM:-0600
TZOFFSETTO:-0500
TZNAME:CDT
DTSTART:20250309T080000
END:DAYLIGHT
BEGIN:STANDARD
TZOFFSETFROM:-0500
TZOFFSETTO:-0600
TZNAME:CST
DTSTART:20251102T070000
END:STANDARD
BEGIN:DAYLIGHT
TZOFFSETFROM:-0600
TZOFFSETTO:-0500
TZNAME:CDT
DTSTART:20260308T080000
END:DAYLIGHT
BEGIN:STANDARD
TZOFFSETFROM:-0500
TZOFFSETTO:-0600
TZNAME:CST
DTSTART:20261101T070000
END:STANDARD
BEGIN:DAYLIGHT
TZOFFSETFROM:-0600
TZOFFSETTO:-0500
TZNAME:CDT
DTSTART:20270314T080000
END:DAYLIGHT
BEGIN:STANDARD
TZOFFSETFROM:-0500
TZOFFSETTO:-0600
TZNAME:CST
DTSTART:20271107T070000
END:STANDARD
END:VTIMEZONE
BEGIN:VEVENT
DTSTART;TZID=America/Chicago:20260227T000000
DTEND;TZID=America/Chicago:20260228T235959
DTSTAMP:20260424T071050
CREATED:20260107T190146Z
LAST-MODIFIED:20260213T183318Z
UID:3930-1772150400-1772323199@www.istm.org
SUMMARY:2026 Travel Medicine Review and Update Course
DESCRIPTION:The Travel Medicine Review and Update Course offers a comprehensive review of the ISTM Body of Knowledge\, with a focus on the latest advancements in the field. This course is tailored for physicians\, nurses and healthcare professionals who provide care and advice to travelers\, expatriates and migrants. \n\n\n\nOur expert faculty will cover essential topics\, including vaccines\, adventure travel\, bites and envenomation\, food and water exposures\, risk assessment and malaria. The curriculum also addresses the unique needs of special groups\, such as pregnant women\, pediatric travelers\, immigrants\, VFR (visiting friends and relatives) travelers and immunocompromised individuals. Recent developments in travelers’ diarrhea\, immunizations\, malaria treatments and emerging infectious diseases will also be highlighted\, providing a well-rounded update on current best practices in travel medicine. 
URL:https://www.istm.org/event/2026-travel-medicine-review-and-update-course/
END:VEVENT
BEGIN:VEVENT
DTSTART;TZID=America/Chicago:20251103T000000
DTEND;TZID=America/Chicago:20251107T235959
DTSTAMP:20260424T071050
CREATED:20251006T213534Z
LAST-MODIFIED:20251007T193333Z
UID:3689-1762128000-1762559999@www.istm.org
SUMMARY:CTH® Examination
DESCRIPTION:The CTH® certificate recognizes professionals who have demonstrated expertise in the unique Body of Knowledge associated with travel medicine care and consultation.The International Society of Travel Medicine (ISTM) will offer its 29th Certificate of Knowledge™ in Travel Medicine examination during the week of 3-7 November 2025. You may choose to take the exam remotely or at a Meazure-approved testing site. Check if there’s an approved Meazure Learning testing site in your area. Candidates may schedule their exam at a date and time that is most convenient for them after receiving a booking email from Meazure Learning. 
URL:https://www.istm.org/event/cth-examination/
CATEGORIES:CTH Examination
END:VEVENT
BEGIN:VEVENT
DTSTART;VALUE=DATE:20250511
DTEND;VALUE=DATE:20250516
DTSTAMP:20260424T071050
CREATED:20240910T224825Z
LAST-MODIFIED:20260408T200013Z
UID:403-1746921600-1747353599@www.istm.org
SUMMARY:CISTM19
DESCRIPTION:HomeEvents\n\n\n\n\n\n\n\nCISTM19 Recordings\n\n\n\n\n\n\n\nSession recordings from the 19th Biennial Conference of the ISTM are available on demand via Learning @ ISTM\, featuring presentations from speakers who granted permission to share their content. \n\n\n\nPurchase CISTM19 Recordings\n\n\n\n\n\n\n\nCISTM19: Expanding the Horizons of Travel Medicine\n\n\n\n\n\n\n\n\n\n\n\nCISTM19 was held in New Orleans 11-15 May 2025 in New Orleans. Attendees had the opportunity to connect with global travel health experts\, discover the latest research and hear timely clinical updates. CISTM19 is accredited for 23.75 hours of CME by the Accreditation Council for Continuing Medical Education (ACCME). \n\n\n\n\n\n\n\nScientific Program\n\n\n\n\n\n\n\n\n\n\n\nView the Program-at-a-Glance\n\n\n\n\n\n\n\nCISTM19 Award Winners\n\n\n\n\n\n\n\n\n\n\n\nISTM is proud to recognize the 2025 award recipients — honoring their achievements\, contributions and commitment to travel medicine. \n\n\n\nISTM Distinguished FellowISTM FellowsISTM Jay Keystone Award for EducationJournal of Travel Medicine AwardsResearch Award WinnersProfessional Group Awards: Pharmacy and NursingFree Communications Award WinnersPrativa Pandey – Nepal (Received the Peter Leggat Medal)Andrea Farnham – UKMiguel Cabada – Peru / USA \n\n\n\nPoster Award WinnerNadja Hedrich – Switzerland \n\n\n\n\n\n\n\n\nOrganization\n\n\n\n\n\n\n\nISTM greatly appreciates the contributions of time and expertise provided by the following people to the 19th Conference of the International Society of Travel Medicine. \n\n\n\n\n\n\n\n\n\n\n\nISTM President \n\n\n\n\n\n\n\n\n\n\n\n\n\n\nGerard Flaherty\, Ireland \n\n\n\n\n\n\n\n\n\n\nScientific Program Chair \n\n\n\n\n\n\n\n\n\n\n\n\n\n\nEric Caumes\, France \n\n\n\n\n\n\n\n\n\n\nLocal Organizing Chair \n\n\n\n\n\n\n\n\n\n\n\n\n\n\nSusan McLellan\, United States \n\n\n\n\n\n\n\n\nScientific Program Committee\n\n\n\nChair:Eric Caumes\, FranceCo-Chair:Colleen Lau\, AustraliaAssociate Chairs:Kristina Angelo\, United States of AmericaMiguel Cabada\, United States of America and PeruWatcharapong Piyaphanee\, ThailandSPC Committee Members:Alfonso Rodriguez Morales\, ColombiaAndroula Pavli\, GreeceBhawana Amatya\, NepalCarsten Schade-Larsen\, DenmarkCandance McAlester\, United StatesCharles Tarimo\, TanzaniaClaire Wong\, New ZealandDavid Hamer\, United StatesDeborah Mills\, AustraliaDerek Evans\, United KingdomEric Halsey\, United StatesEyal Leshem\, IsraelFrancesca Norman\, SpainJan Fehr\, SwitzerlandJasper Chan\, Hong KongKarin Leder\, AustraliaLuis Furuya-Kanamori\, AustraliaMade Wijaya\, IndonesiaMarc Shaw\, New ZealandMartin Haditsch\, AustriaMelinda Tanabe\, United StatesNaomi Aronson\, United StatesOlivier Aoun\, FranceOula Itani\, FrancePeter Felkai*\, HungaryRalph Huits\, The NetherlandsRichard Dawood\, United KingdomSophie Schneitler\, GermanyStefan Hagmann\, United StatesStephen Vaughan\, CanadaSue Ann McDevitt\, United StatesTerezinha Marta Castineiras\, BrazilVanessa Field\, United KingdomYen Bui\, Canada*deceased\n\n\n\nCISTM19 Local Organizing Committee\n\n\n\nChair:Susan McLellan\, United States of AmericaCo-Chair:James Diaz\, United States of AmericaMembers:Charlie Ericsson\, United States of AmericaObi Nnedu\, United States of AmericaJohn Schieffelin\, United States of AmericaMargarita (Maggie) Silio\, United States of AmericaCrystal Zheng\, United States of AmericaPhyllis Kozarsky\, United States of AmericaJeffrey Percak\, United States of AmericaNicholas Van Sickels\, United States of America
URL:https://www.istm.org/event/cistm19/
CATEGORIES:Conference
ATTACH;FMTTYPE=image/jpeg:https://www.istm.org/wp-content/uploads/cistm19-logo-fnl-4c.jpg
ORGANIZER;CN="ISTM":MAILTO:istm@istm.org
END:VEVENT
END:VCALENDAR